BEGIN:VCALENDAR
VERSION:2.0
PRODID:spatie/icalendar-generator
DESCRIPTION:Events from Ann Arbor Observer
X-WR-CALDESC:Events from Ann Arbor Observer
REFRESH-INTERVAL;VALUE=DURATION:PT1440M
X-PUBLISHED-TTL:PT1440M
BEGIN:VTIMEZONE
TZID:America/Detroit
BEGIN:STANDARD
DTSTART:20251102T020000Z
TZOFFSETFROM:-0400
TZOFFSETTO:-0500
END:STANDARD
BEGIN:DAYLIGHT
DTSTART:20260308T020000Z
TZOFFSETFROM:-0500
TZOFFSETTO:-0400
END:DAYLIGHT
BEGIN:STANDARD
DTSTART:20261101T020000Z
TZOFFSETFROM:-0400
TZOFFSETTO:-0500
END:STANDARD
END:VTIMEZONE
BEGIN:VTIMEZONE
TZID:UTC
BEGIN:STANDARD
DTSTART:20250729T182201Z
TZOFFSETFROM:+0000
TZOFFSETTO:+0000
END:STANDARD
END:VTIMEZONE
BEGIN:VEVENT
UID:62863-62070
DTSTAMP:20260425T182201Z
SUMMARY:Duplicate Bridge: Ann Arbor City Club
LOCATION:
ORGANIZER;CN=Emily Landau:MAILTO:emily@aaobserver.com
DTSTART;TZID=America/Detroit:20260526T130000
DTEND;TZID=America/Detroit:20260526T160000
X-ALT-DESC;FMTTYPE=TEXT/HTML:Every Fri.\, Tues.\, &amp;amp\; Thurs. All invited
  to play ACBL-sanctioned duplicate bridge (Fri. &amp;amp\; Tues.) and a 499er 
 game (Thurs.) for players with no more than 499 ACBL master points. 1–4 
 p.m. (arrive by 12:45 p.m.)\, 1830 Washtenaw Ave. $9 per person. If you pl
 an to come without a partner\, email janeannarborcityclub@gmail.com.
CATEGORIES:Observer Editor
URL;VALUE=URI:https://annarborobserver.com/mc-events/duplicate-bridge-ann-a
 rbor-city-club-55/
METHOD:PUBLISH
END:VEVENT
END:VCALENDAR