BEGIN:VCALENDAR
VERSION:2.0
PRODID:spatie/icalendar-generator
DESCRIPTION:Events from Ann Arbor Observer
X-WR-CALDESC:Events from Ann Arbor Observer
REFRESH-INTERVAL;VALUE=DURATION:PT1440M
X-PUBLISHED-TTL:PT1440M
BEGIN:VTIMEZONE
TZID:America/Detroit
BEGIN:STANDARD
DTSTART:20251102T020000Z
TZOFFSETFROM:-0400
TZOFFSETTO:-0500
END:STANDARD
BEGIN:DAYLIGHT
DTSTART:20260308T020000Z
TZOFFSETFROM:-0500
TZOFFSETTO:-0400
END:DAYLIGHT
BEGIN:STANDARD
DTSTART:20261101T020000Z
TZOFFSETFROM:-0400
TZOFFSETTO:-0500
END:STANDARD
END:VTIMEZONE
BEGIN:VTIMEZONE
TZID:UTC
BEGIN:STANDARD
DTSTART:20250729T142622Z
TZOFFSETFROM:+0000
TZOFFSETTO:+0000
END:STANDARD
END:VTIMEZONE
BEGIN:VEVENT
UID:62698-61906
DTSTAMP:20260425T142622Z
SUMMARY:Walking Tour: Paths of Protest: Stories of Campus Activism at the U
 niversity of Michigan
LOCATION:
ORGANIZER;CN=Jen Taylor:MAILTO:jen@aaobserver.com
DTSTART;TZID=America/Detroit:20260530T130000
DTEND;TZID=America/Detroit:20260530T143000
X-ALT-DESC;FMTTYPE=TEXT/HTML:The first teach-in. Lawsuits. Nazi resistance.
  U-M has long been home to activism\, and this walking tour will visit his
 torically significant locations where you will learn about protests on cam
 pus. We will cover women’s activism\, the legacy of the Treaty of Fort M
 eigs\, the Black Action Movement\, anti-Vietnam War activism\, and more. G
 uided walking tour&amp;hellip\;
CATEGORIES:Community Listing
URL;VALUE=URI:https://annarborobserver.com/mc-events/walking-tour-paths-of-
 protest-stories-of-campus-activism-at-the-university-of-michigan-3/
METHOD:PUBLISH
END:VEVENT
END:VCALENDAR