BEGIN:VCALENDAR
VERSION:2.0
PRODID:spatie/icalendar-generator
DESCRIPTION:Events from Ann Arbor Observer
X-WR-CALDESC:Events from Ann Arbor Observer
REFRESH-INTERVAL;VALUE=DURATION:PT1440M
X-PUBLISHED-TTL:PT1440M
BEGIN:VTIMEZONE
TZID:America/Detroit
BEGIN:STANDARD
DTSTART:20251102T020000Z
TZOFFSETFROM:-0400
TZOFFSETTO:-0500
END:STANDARD
BEGIN:DAYLIGHT
DTSTART:20260308T020000Z
TZOFFSETFROM:-0500
TZOFFSETTO:-0400
END:DAYLIGHT
END:VTIMEZONE
BEGIN:VTIMEZONE
TZID:UTC
BEGIN:STANDARD
DTSTART:20250729T230255Z
TZOFFSETFROM:+0000
TZOFFSETTO:+0000
END:STANDARD
END:VTIMEZONE
BEGIN:VEVENT
UID:62581-61602
DTSTAMP:20260425T230255Z
SUMMARY:“A Gift of Song”: Threshold Singers
LOCATION:
ORGANIZER;CN=Michael Bright:MAILTO:Michael@aaobserver.com
DTSTART;TZID=America/Detroit:20260418T150000
DTEND;TZID=America/Detroit:20260418T163000
X-ALT-DESC;FMTTYPE=TEXT/HTML:All invited to sit or recline and listen to a 
 soothing program of lullabies\, rounds\, chants\, and hymns from various c
 ultures and spiritual traditions. Followed by a sing-along. Threshold Sing
 ers are part of an international organization of choirs that honor the tra
 dition of singing at the bedsides of people who are struggling to provide 
 comfort.&amp;hellip\;
CATEGORIES:Community Listing
URL;VALUE=URI:https://annarborobserver.com/mc-events/a-gift-of-song-thresho
 ld-singers/
METHOD:PUBLISH
END:VEVENT
END:VCALENDAR