BEGIN:VCALENDAR
VERSION:2.0
PRODID:spatie/icalendar-generator
DESCRIPTION:Events from Ann Arbor Observer
X-WR-CALDESC:Events from Ann Arbor Observer
REFRESH-INTERVAL;VALUE=DURATION:PT1440M
X-PUBLISHED-TTL:PT1440M
BEGIN:VTIMEZONE
TZID:America/Detroit
BEGIN:STANDARD
DTSTART:20251102T020000Z
TZOFFSETFROM:-0400
TZOFFSETTO:-0500
END:STANDARD
BEGIN:DAYLIGHT
DTSTART:20260308T020000Z
TZOFFSETFROM:-0500
TZOFFSETTO:-0400
END:DAYLIGHT
END:VTIMEZONE
BEGIN:VTIMEZONE
TZID:UTC
BEGIN:STANDARD
DTSTART:20250729T194650Z
TZOFFSETFROM:+0000
TZOFFSETTO:+0000
END:STANDARD
END:VTIMEZONE
BEGIN:VEVENT
UID:62516-61734
DTSTAMP:20260425T194650Z
SUMMARY:Show &amp;amp\; Tell - Free AI Workshop
LOCATION:
ORGANIZER;CN=Jen Taylor:MAILTO:jen@aaobserver.com
DTSTART;TZID=America/Detroit:20260421T120000
DTEND;TZID=America/Detroit:20260421T140000
X-ALT-DESC;FMTTYPE=TEXT/HTML:Free hands-on AI workshop at Bamboo Ann Arbor 
 (200 S 1st St). Live demos of ChatGPT\, Claude\, and automation tools for 
 real business use cases. No technical background needed. Bring your laptop
 . First time in Ann Arbor! Led by Tim Haines\, Salesforce Workforce Naviga
 tors partner. Website: https://www.crashthatcourse.com/events/a2-apr-2026/
  Eventbrite: https://www.eventbrite.com/e/1986027745449
CATEGORIES:Community Listing
URL;VALUE=URI:https://annarborobserver.com/mc-events/show-tell-free-ai-work
 shop/
METHOD:PUBLISH
END:VEVENT
END:VCALENDAR