BEGIN:VCALENDAR
VERSION:2.0
PRODID:spatie/icalendar-generator
DESCRIPTION:Events from Ann Arbor Observer
X-WR-CALDESC:Events from Ann Arbor Observer
REFRESH-INTERVAL;VALUE=DURATION:PT1440M
X-PUBLISHED-TTL:PT1440M
BEGIN:VTIMEZONE
TZID:America/Detroit
BEGIN:STANDARD
DTSTART:20251102T020000Z
TZOFFSETFROM:-0400
TZOFFSETTO:-0500
END:STANDARD
BEGIN:DAYLIGHT
DTSTART:20260308T020000Z
TZOFFSETFROM:-0500
TZOFFSETTO:-0400
END:DAYLIGHT
END:VTIMEZONE
BEGIN:VTIMEZONE
TZID:UTC
BEGIN:STANDARD
DTSTART:20250724T094549Z
TZOFFSETFROM:+0000
TZOFFSETTO:+0000
END:STANDARD
END:VTIMEZONE
BEGIN:VEVENT
UID:62460-61678
DTSTAMP:20260420T094549Z
SUMMARY:U-M CinéMalPractice
LOCATION:
ORGANIZER;CN=Jen Taylor:MAILTO:jen@aaobserver.com
DTSTART;TZID=America/Detroit:20260418T190000
DTEND;TZID=America/Detroit:20260418T230000
X-ALT-DESC;FMTTYPE=TEXT/HTML:1800 Chemistry Bldg. (930 North University). a
 mytheevitable@gmail.com. http://cinemalpractice.com/ Apr. 18: 7th Annual C
 inéMalPractice. This celebration of bad films features screenings of B-mo
 vie clips in various categories\, including “Least Special Effect\,” 
 “Featured Creatures\,” and “Hold My Beer.” Audience members vote f
 or the worst films. Snacks in equally poor taste. For mature audiences. FR
 EE. 7–11 p.m.
CATEGORIES:Observer Editor,  Free
URL;VALUE=URI:https://annarborobserver.com/mc-events/u-m-cinemalpractice/
METHOD:PUBLISH
END:VEVENT
END:VCALENDAR