BEGIN:VCALENDAR
VERSION:2.0
PRODID:spatie/icalendar-generator
DESCRIPTION:Events from Ann Arbor Observer
X-WR-CALDESC:Events from Ann Arbor Observer
REFRESH-INTERVAL;VALUE=DURATION:PT1440M
X-PUBLISHED-TTL:PT1440M
BEGIN:VTIMEZONE
TZID:America/Detroit
BEGIN:STANDARD
DTSTART:20251102T020000Z
TZOFFSETFROM:-0400
TZOFFSETTO:-0500
END:STANDARD
BEGIN:DAYLIGHT
DTSTART:20260308T020000Z
TZOFFSETFROM:-0500
TZOFFSETTO:-0400
END:DAYLIGHT
END:VTIMEZONE
BEGIN:VTIMEZONE
TZID:UTC
BEGIN:STANDARD
DTSTART:20250729T182419Z
TZOFFSETFROM:+0000
TZOFFSETTO:+0000
END:STANDARD
END:VTIMEZONE
BEGIN:VEVENT
UID:62431-61649
DTSTAMP:20260425T182419Z
SUMMARY:The Ukrainian Bandurist Chorus of North America: First Presbyterian
  Church
LOCATION:
ORGANIZER;CN=Jen Taylor:MAILTO:jen@aaobserver.com
DTSTART;TZID=America/Detroit:20260425T190000
DTEND;TZID=America/Detroit:20260425T203000
X-ALT-DESC;FMTTYPE=TEXT/HTML:Oleh Mahlay directs this award-winning male ch
 orus in a program featuring folk songs and songs of resistance sung in Ukr
 ainian (lyrics in English are projected). A large ensemble of banduras\, a
  traditional Ukrainian folk instrument similar to a lyre\, accompanies the
  singers. The chorus\, which traces its roots to 1918 Ukraine\, emigrated 
 to Detroit as&amp;hellip\;
CATEGORIES:Observer Editor,  Free
URL;VALUE=URI:https://annarborobserver.com/mc-events/the-ukrainian-banduris
 t-chorus-of-north-america-first-presbyterian-church/
METHOD:PUBLISH
END:VEVENT
END:VCALENDAR