BEGIN:VCALENDAR
VERSION:2.0
PRODID:spatie/icalendar-generator
DESCRIPTION:Events from Ann Arbor Observer
X-WR-CALDESC:Events from Ann Arbor Observer
REFRESH-INTERVAL;VALUE=DURATION:PT1440M
X-PUBLISHED-TTL:PT1440M
BEGIN:VTIMEZONE
TZID:America/Detroit
BEGIN:STANDARD
DTSTART:20251102T020000Z
TZOFFSETFROM:-0400
TZOFFSETTO:-0500
END:STANDARD
BEGIN:DAYLIGHT
DTSTART:20260308T020000Z
TZOFFSETFROM:-0500
TZOFFSETTO:-0400
END:DAYLIGHT
END:VTIMEZONE
BEGIN:VTIMEZONE
TZID:UTC
BEGIN:STANDARD
DTSTART:20250729T201117Z
TZOFFSETFROM:+0000
TZOFFSETTO:+0000
END:STANDARD
END:VTIMEZONE
BEGIN:VEVENT
UID:62430-61648
DTSTAMP:20260425T201117Z
SUMMARY:“light eternal: non timebo mala”: Ann Arbor Grail Singers
LOCATION:
ORGANIZER;CN=Emily Landau:MAILTO:emily@aaobserver.com
DTSTART;TZID=America/Detroit:20260425T193000
DTEND;TZID=America/Detroit:20260425T203000
X-ALT-DESC;FMTTYPE=TEXT/HTML:See 17 Friday. 7:30 p.m.\, St. Joseph Catholic
  Parish\, 3430 Dover\, Dexter.
CATEGORIES:Observer Editor
URL;VALUE=URI:https://annarborobserver.com/mc-events/light-eternal-non-time
 bo-mala-ann-arbor-grail-singers-2/
METHOD:PUBLISH
END:VEVENT
END:VCALENDAR