BEGIN:VCALENDAR
VERSION:2.0
PRODID:spatie/icalendar-generator
DESCRIPTION:Events from Ann Arbor Observer
X-WR-CALDESC:Events from Ann Arbor Observer
REFRESH-INTERVAL;VALUE=DURATION:PT1440M
X-PUBLISHED-TTL:PT1440M
BEGIN:VTIMEZONE
TZID:America/Detroit
BEGIN:STANDARD
DTSTART:20251102T020000Z
TZOFFSETFROM:-0400
TZOFFSETTO:-0500
END:STANDARD
BEGIN:DAYLIGHT
DTSTART:20260308T020000Z
TZOFFSETFROM:-0500
TZOFFSETTO:-0400
END:DAYLIGHT
END:VTIMEZONE
BEGIN:VTIMEZONE
TZID:UTC
BEGIN:STANDARD
DTSTART:20250724T125439Z
TZOFFSETFROM:+0000
TZOFFSETTO:+0000
END:STANDARD
END:VTIMEZONE
BEGIN:VEVENT
UID:62382-61600
DTSTAMP:20260420T125439Z
SUMMARY:“BIPOC Bird Walk”: Washtenaw Bird &amp;amp\; Nature Alliance
LOCATION:
ORGANIZER;CN=Emily Landau:MAILTO:emily@aaobserver.com
DTSTART;TZID=America/Detroit:20260418T093000
DTEND;TZID=America/Detroit:20260418T113000
X-ALT-DESC;FMTTYPE=TEXT/HTML:An opportunity for people from BIPOC (Black\, 
 Indigenous\, people of color) communities and their allies to look for ear
 ly spring migrating birds. Binoculars provided if needed. 9:30–11:30 a.m
 .\, Furstenberg Nature Area\, 2626 Fuller. (Meet in the parking lot\, near
  the restrooms) Free. washtenawbna.org.
CATEGORIES:Observer Editor,  Free
URL;VALUE=URI:https://annarborobserver.com/mc-events/bipoc-bird-walk-washte
 naw-bird-nature-alliance/
METHOD:PUBLISH
END:VEVENT
END:VCALENDAR