BEGIN:VCALENDAR
VERSION:2.0
PRODID:spatie/icalendar-generator
DESCRIPTION:Events from Ann Arbor Observer
X-WR-CALDESC:Events from Ann Arbor Observer
REFRESH-INTERVAL;VALUE=DURATION:PT1440M
X-PUBLISHED-TTL:PT1440M
BEGIN:VTIMEZONE
TZID:America/Detroit
BEGIN:STANDARD
DTSTART:20251102T020000Z
TZOFFSETFROM:-0400
TZOFFSETTO:-0500
END:STANDARD
BEGIN:DAYLIGHT
DTSTART:20260308T020000Z
TZOFFSETFROM:-0500
TZOFFSETTO:-0400
END:DAYLIGHT
END:VTIMEZONE
BEGIN:VTIMEZONE
TZID:UTC
BEGIN:STANDARD
DTSTART:20250724T125115Z
TZOFFSETFROM:+0000
TZOFFSETTO:+0000
END:STANDARD
END:VTIMEZONE
BEGIN:VEVENT
UID:62372-61590
DTSTAMP:20260420T125115Z
SUMMARY:\"Ears of My Ears Awake!\": Vocal Arts Ensemble
LOCATION:
ORGANIZER;CN=Emily Landau:MAILTO:emily@aaobserver.com
DTSTART;TZID=America/Detroit:20260418T193000
DTEND;TZID=America/Detroit:20260418T210000
X-ALT-DESC;FMTTYPE=TEXT/HTML:Ben Cohen directs this local 24-voice chamber 
 choir in a program featuring a new “choral drama” in honor of Earth Da
 y that alternates readings as well as solo and choral settings of texts on
  the theme of nature by Shakespeare\, Wendell Berry\, Mary Oliver\, E. E. 
 Cummings\, and others to evocative music by various composers.&amp;hellip\;
CATEGORIES:Observer Editor
URL;VALUE=URI:https://annarborobserver.com/mc-events/ears-of-my-ears-awake-
 vocal-arts-ensemble/
METHOD:PUBLISH
END:VEVENT
END:VCALENDAR