BEGIN:VCALENDAR
VERSION:2.0
PRODID:spatie/icalendar-generator
DESCRIPTION:Events from Ann Arbor Observer
X-WR-CALDESC:Events from Ann Arbor Observer
REFRESH-INTERVAL;VALUE=DURATION:PT1440M
X-PUBLISHED-TTL:PT1440M
BEGIN:VTIMEZONE
TZID:America/Detroit
BEGIN:STANDARD
DTSTART:20251102T020000Z
TZOFFSETFROM:-0400
TZOFFSETTO:-0500
END:STANDARD
BEGIN:DAYLIGHT
DTSTART:20260308T020000Z
TZOFFSETFROM:-0500
TZOFFSETTO:-0400
END:DAYLIGHT
END:VTIMEZONE
BEGIN:VTIMEZONE
TZID:UTC
BEGIN:STANDARD
DTSTART:20250729T041040Z
TZOFFSETFROM:+0000
TZOFFSETTO:+0000
END:STANDARD
END:VTIMEZONE
BEGIN:VEVENT
UID:62358-61576
DTSTAMP:20260425T041040Z
SUMMARY:Collegiate Professorship Inaugural Lectures: U-M College of Literat
 ure\, Science\, and the Arts
LOCATION:
ORGANIZER;CN=Emily Landau:MAILTO:emily@aaobserver.com
DTSTART;TZID=America/Detroit:20260416T160000
DTEND;TZID=America/Detroit:20260416T173000
X-ALT-DESC;FMTTYPE=TEXT/HTML:Short talks by U-M scholars recently appointed
  to endowed chairs\, including Earth and planetary sciences professor Jie 
 (Jackie) Li on “How Earth Stays Magnetic\,” mathematics professor Ralf
  J. Spatzier on “The Role of Intuition in Mathematics Research\,” and 
 political science professor Nicholas A. Valentino on “Explorations on th
 e Role of Race in Politics.” 4–5:30 p.m.\,&amp;hellip\;
CATEGORIES:Observer Editor,  Free
URL;VALUE=URI:https://annarborobserver.com/mc-events/collegiate-professorsh
 ip-inaugural-lectures-u-m-college-of-literature-science-and-the-arts/
METHOD:PUBLISH
END:VEVENT
END:VCALENDAR