BEGIN:VCALENDAR
VERSION:2.0
PRODID:spatie/icalendar-generator
DESCRIPTION:Events from Ann Arbor Observer
X-WR-CALDESC:Events from Ann Arbor Observer
REFRESH-INTERVAL;VALUE=DURATION:PT1440M
X-PUBLISHED-TTL:PT1440M
BEGIN:VTIMEZONE
TZID:America/Detroit
BEGIN:STANDARD
DTSTART:20251102T020000Z
TZOFFSETFROM:-0400
TZOFFSETTO:-0500
END:STANDARD
BEGIN:DAYLIGHT
DTSTART:20260308T020000Z
TZOFFSETFROM:-0500
TZOFFSETTO:-0400
END:DAYLIGHT
END:VTIMEZONE
BEGIN:VTIMEZONE
TZID:UTC
BEGIN:STANDARD
DTSTART:20250724T152813Z
TZOFFSETFROM:+0000
TZOFFSETTO:+0000
END:STANDARD
END:VTIMEZONE
BEGIN:VEVENT
UID:62356-61574
DTSTAMP:20260420T152813Z
SUMMARY:“AI and Detroit’s Census Challenge”: U-M Institute for Data &amp;
 amp\; AI in Society
LOCATION:
ORGANIZER;CN=Emily Landau:MAILTO:emily@aaobserver.com
DTSTART;TZID=America/Detroit:20260416T180000
DTEND;TZID=America/Detroit:20260416T193000
X-ALT-DESC;FMTTYPE=TEXT/HTML:Discussion between U-M data science professor 
 Derek Van Berkel and U-M sociology professor Jeffrey D. Morenoff. 6–7:30
  p.m.\, 1040 Dana Bldg.\, 440 Church. Free\, but preregistration required 
 at fordschool.umich.edu/event.
CATEGORIES:Observer Editor,  Free
URL;VALUE=URI:https://annarborobserver.com/mc-events/ai-and-detroits-census
 -challenge-u-m-institute-for-data-ai-in-society/
METHOD:PUBLISH
END:VEVENT
END:VCALENDAR