BEGIN:VCALENDAR
VERSION:2.0
PRODID:spatie/icalendar-generator
DESCRIPTION:Events from Ann Arbor Observer
X-WR-CALDESC:Events from Ann Arbor Observer
REFRESH-INTERVAL;VALUE=DURATION:PT1440M
X-PUBLISHED-TTL:PT1440M
BEGIN:VTIMEZONE
TZID:America/Detroit
BEGIN:STANDARD
DTSTART:20251102T020000Z
TZOFFSETFROM:-0400
TZOFFSETTO:-0500
END:STANDARD
BEGIN:DAYLIGHT
DTSTART:20260308T020000Z
TZOFFSETFROM:-0500
TZOFFSETTO:-0400
END:DAYLIGHT
END:VTIMEZONE
BEGIN:VTIMEZONE
TZID:UTC
BEGIN:STANDARD
DTSTART:20250724T111104Z
TZOFFSETFROM:+0000
TZOFFSETTO:+0000
END:STANDARD
END:VTIMEZONE
BEGIN:VEVENT
UID:62352-61570
DTSTAMP:20260420T111104Z
SUMMARY:“Information Sick: How Journalism’s Decline &amp;amp\; Misinformati
 on’s Rise Are Harming Our Health &amp;amp\; What We Can Do About It”: U-M 
 Institute for Social Research
LOCATION:
ORGANIZER;CN=Emily Landau:MAILTO:emily@aaobserver.com
DTSTART;TZID=America/Detroit:20260416T153000
DTEND;TZID=America/Detroit:20260416T170000
X-ALT-DESC;FMTTYPE=TEXT/HTML:Johns Hopkins University public health profess
 ors Joanne Kenen &amp;amp\; Joshua Sharfstein discuss their new book. 3:30–5
  p.m.\, 1430 ISR\, 426 Thompson. Preregistration requested at myumi.ch/bvm
 g6. Free. (734) 764–365.
CATEGORIES:Observer Editor,  Free
URL;VALUE=URI:https://annarborobserver.com/mc-events/information-sick-how-j
 ournalisms-decline-misinformations-rise-are-harming-our-health-what-we-can
 -do-about-it-u-m-institute-for-social-research/
METHOD:PUBLISH
END:VEVENT
END:VCALENDAR