BEGIN:VCALENDAR
VERSION:2.0
PRODID:spatie/icalendar-generator
DESCRIPTION:Events from Ann Arbor Observer
X-WR-CALDESC:Events from Ann Arbor Observer
REFRESH-INTERVAL;VALUE=DURATION:PT1440M
X-PUBLISHED-TTL:PT1440M
BEGIN:VTIMEZONE
TZID:America/Detroit
BEGIN:STANDARD
DTSTART:20251102T020000Z
TZOFFSETFROM:-0400
TZOFFSETTO:-0500
END:STANDARD
BEGIN:DAYLIGHT
DTSTART:20260308T020000Z
TZOFFSETFROM:-0500
TZOFFSETTO:-0400
END:DAYLIGHT
END:VTIMEZONE
BEGIN:VTIMEZONE
TZID:UTC
BEGIN:STANDARD
DTSTART:20250724T192217Z
TZOFFSETFROM:+0000
TZOFFSETTO:+0000
END:STANDARD
END:VTIMEZONE
BEGIN:VEVENT
UID:62318-61536
DTSTAMP:20260420T192217Z
SUMMARY:The Janzen Boys: Kerrytown Concert House
LOCATION:
ORGANIZER;CN=Emily Landau:MAILTO:emily@aaobserver.com
DTSTART;TZID=America/Detroit:20260414T193000
DTEND;TZID=America/Detroit:20260414T203000
X-ALT-DESC;FMTTYPE=TEXT/HTML:This father-and-sons trio of Winnipeg-based fo
 lk-country singer-songwriters and multi-instrumentalists boasts tight 3-pa
 rt harmonies that have garnered comparisons to artists like Simon &amp;amp\; G
 arfunkel\, Neil Young\, and the Barenaked Ladies. 7:30 p.m.\, 415 N. Fourt
 h Ave. $20–$35 (students\, $10–$25) in advance at kerrytownconcerthous
 e.com &amp;amp\; (if available) at the door. (734) 769–2999.
CATEGORIES:Observer Editor
URL;VALUE=URI:https://annarborobserver.com/mc-events/the-janzen-boys-kerryt
 own-concert-house/
METHOD:PUBLISH
END:VEVENT
END:VCALENDAR