BEGIN:VCALENDAR
VERSION:2.0
PRODID:spatie/icalendar-generator
DESCRIPTION:Events from Ann Arbor Observer
X-WR-CALDESC:Events from Ann Arbor Observer
REFRESH-INTERVAL;VALUE=DURATION:PT1440M
X-PUBLISHED-TTL:PT1440M
BEGIN:VTIMEZONE
TZID:America/Detroit
BEGIN:STANDARD
DTSTART:20251102T020000Z
TZOFFSETFROM:-0400
TZOFFSETTO:-0500
END:STANDARD
BEGIN:DAYLIGHT
DTSTART:20260308T020000Z
TZOFFSETFROM:-0500
TZOFFSETTO:-0400
END:DAYLIGHT
END:VTIMEZONE
BEGIN:VTIMEZONE
TZID:UTC
BEGIN:STANDARD
DTSTART:20250725T015226Z
TZOFFSETFROM:+0000
TZOFFSETTO:+0000
END:STANDARD
END:VTIMEZONE
BEGIN:VEVENT
UID:62082-61300
DTSTAMP:20260421T015226Z
SUMMARY:Earth Day Earthen Tile Workshop
LOCATION:
ORGANIZER;CN=Jen Taylor:MAILTO:jen@aaobserver.com
DTSTART;TZID=America/Detroit:20260418T130000
DTEND;TZID=America/Detroit:20260418T140000
X-ALT-DESC;FMTTYPE=TEXT/HTML:The Earthen Tile poetry workshop combines text
  with native plant species! Each participant will select from various nati
 ve plant species and letters to create their text\, and then make their ow
 n earth tile to take home and let germinate! This community-centered art p
 roject is created by artist Ruth K Burke who is in April’s gallery&amp;helli
 p\;
CATEGORIES:Community Listing
URL;VALUE=URI:https://annarborobserver.com/mc-events/earth-day-earthen-tile
 -workshop/
METHOD:PUBLISH
END:VEVENT
END:VCALENDAR