BEGIN:VCALENDAR
VERSION:2.0
PRODID:spatie/icalendar-generator
DESCRIPTION:Events from Ann Arbor Observer
X-WR-CALDESC:Events from Ann Arbor Observer
REFRESH-INTERVAL;VALUE=DURATION:PT1440M
X-PUBLISHED-TTL:PT1440M
BEGIN:VTIMEZONE
TZID:America/Detroit
BEGIN:STANDARD
DTSTART:20251102T020000Z
TZOFFSETFROM:-0400
TZOFFSETTO:-0500
END:STANDARD
BEGIN:DAYLIGHT
DTSTART:20260308T020000Z
TZOFFSETFROM:-0500
TZOFFSETTO:-0400
END:DAYLIGHT
END:VTIMEZONE
BEGIN:VTIMEZONE
TZID:UTC
BEGIN:STANDARD
DTSTART:20250729T171026Z
TZOFFSETFROM:+0000
TZOFFSETTO:+0000
END:STANDARD
END:VTIMEZONE
BEGIN:VEVENT
UID:62032-61250
DTSTAMP:20260425T171026Z
SUMMARY:“Home”: Dance Uprising
LOCATION:
ORGANIZER;CN=Emily Landau:MAILTO:emily@aaobserver.com
DTSTART;TZID=America/Detroit:20260425T190000
DTEND;TZID=America/Detroit:20260425T200000
X-ALT-DESC;FMTTYPE=TEXT/HTML:Apr. 24 &amp;amp\; 25. This local modern dance com
 pany performs original dances choreographed by artistic director Amy Cadwa
 llader and company member Rachel Meloche. 7 p.m.\, Riverside Arts Center\,
  76 N. Huron St.\, Ypsi. Tickets $26 (students &amp;amp\; seniors\, $11) in ad
 vance at danceuprising.com &amp;amp\; (if available) $35 (students &amp;amp\; seni
 ors\, $15) at the door.
CATEGORIES:Observer Editor
URL;VALUE=URI:https://annarborobserver.com/mc-events/home-dance-uprising-2/
METHOD:PUBLISH
END:VEVENT
END:VCALENDAR