BEGIN:VCALENDAR
VERSION:2.0
PRODID:spatie/icalendar-generator
DESCRIPTION:Events from Ann Arbor Observer
X-WR-CALDESC:Events from Ann Arbor Observer
REFRESH-INTERVAL;VALUE=DURATION:PT1440M
X-PUBLISHED-TTL:PT1440M
BEGIN:VTIMEZONE
TZID:America/Detroit
BEGIN:STANDARD
DTSTART:20251102T020000Z
TZOFFSETFROM:-0400
TZOFFSETTO:-0500
END:STANDARD
BEGIN:DAYLIGHT
DTSTART:20260308T020000Z
TZOFFSETFROM:-0500
TZOFFSETTO:-0400
END:DAYLIGHT
END:VTIMEZONE
BEGIN:VTIMEZONE
TZID:UTC
BEGIN:STANDARD
DTSTART:20250728T235854Z
TZOFFSETFROM:+0000
TZOFFSETTO:+0000
END:STANDARD
END:VTIMEZONE
BEGIN:VEVENT
UID:62027-61245
DTSTAMP:20260424T235854Z
SUMMARY:Ian Fink: University Musical Society Ypsilanti Freighthouse Residen
 cy
LOCATION:
ORGANIZER;CN=Emily Landau:MAILTO:emily@aaobserver.com
DTSTART;TZID=America/Detroit:20260424T193000
DTEND;TZID=America/Detroit:20260424T203000
X-ALT-DESC;FMTTYPE=TEXT/HTML:Detroit-based jazz\, techno\, and house keyboa
 rdist Ian Finkelstein (aka Ian Fink) leads Detroit musicians TBA in a jazz
  performance. 7:30 p.m.\, 100 Market Pl.\, Ypsi. $15–$25 suggested (pay 
 what you wish). Preregistration required at tickets.ums.org or (734) 764
 –2538.
CATEGORIES:Observer Editor
URL;VALUE=URI:https://annarborobserver.com/mc-events/ian-fink-university-mu
 sical-society-ypsilanti-freighthouse-residency/
METHOD:PUBLISH
END:VEVENT
END:VCALENDAR