BEGIN:VCALENDAR
VERSION:2.0
PRODID:spatie/icalendar-generator
DESCRIPTION:Events from Ann Arbor Observer
X-WR-CALDESC:Events from Ann Arbor Observer
REFRESH-INTERVAL;VALUE=DURATION:PT1440M
X-PUBLISHED-TTL:PT1440M
BEGIN:VTIMEZONE
TZID:America/Detroit
BEGIN:STANDARD
DTSTART:20251102T020000Z
TZOFFSETFROM:-0400
TZOFFSETTO:-0500
END:STANDARD
BEGIN:DAYLIGHT
DTSTART:20260308T020000Z
TZOFFSETFROM:-0500
TZOFFSETTO:-0400
END:DAYLIGHT
END:VTIMEZONE
BEGIN:VTIMEZONE
TZID:UTC
BEGIN:STANDARD
DTSTART:20250728T152217Z
TZOFFSETFROM:+0000
TZOFFSETTO:+0000
END:STANDARD
END:VTIMEZONE
BEGIN:VEVENT
UID:62020-61238
DTSTAMP:20260424T152217Z
SUMMARY:“Fear and Fury: The Reagan Eighties\, the Bernie Goetz Shootings\
 , and the Rebirth of White Rage”: Literati Bookstore
LOCATION:
ORGANIZER;CN=Emily Landau:MAILTO:emily@aaobserver.com
DTSTART;TZID=America/Detroit:20260424T183000
DTEND;TZID=America/Detroit:20260424T193000
X-ALT-DESC;FMTTYPE=TEXT/HTML:U-M history professor Heather Ann Thompson\, a
 uthor of the Pulitzer Prize–winning Blood in the Water: The Attica Priso
 n Uprising of 1971 and Its Legacy\, discusses her new book about an infamo
 us 1984 New York subway shooting that laid bare simmering racial resentmen
 ts and ushered in a new era of rage and violence. 6:30 p.m.\, 124&amp;hellip\;
CATEGORIES:Observer Editor,  Free
URL;VALUE=URI:https://annarborobserver.com/mc-events/fear-and-fury-the-reag
 an-eighties-the-bernie-goetz-shootings-and-the-rebirth-of-white-rage-liter
 ati-bookstore/
METHOD:PUBLISH
END:VEVENT
END:VCALENDAR