BEGIN:VCALENDAR
VERSION:2.0
PRODID:spatie/icalendar-generator
DESCRIPTION:Events from Ann Arbor Observer
X-WR-CALDESC:Events from Ann Arbor Observer
REFRESH-INTERVAL;VALUE=DURATION:PT1440M
X-PUBLISHED-TTL:PT1440M
BEGIN:VTIMEZONE
TZID:America/Detroit
BEGIN:STANDARD
DTSTART:20251102T020000Z
TZOFFSETFROM:-0400
TZOFFSETTO:-0500
END:STANDARD
BEGIN:DAYLIGHT
DTSTART:20260308T020000Z
TZOFFSETFROM:-0500
TZOFFSETTO:-0400
END:DAYLIGHT
END:VTIMEZONE
BEGIN:VTIMEZONE
TZID:UTC
BEGIN:STANDARD
DTSTART:20250729T011628Z
TZOFFSETFROM:+0000
TZOFFSETTO:+0000
END:STANDARD
END:VTIMEZONE
BEGIN:VEVENT
UID:61981-61199
DTSTAMP:20260425T011628Z
SUMMARY:“Patriots: Everyday Citizens and the Founding of America”: Sale
 m Area Historical Society
LOCATION:
ORGANIZER;CN=Emily Landau:MAILTO:emily@aaobserver.com
DTSTART;TZID=America/Detroit:20260422T190000
DTEND;TZID=America/Detroit:20260422T200000
X-ALT-DESC;FMTTYPE=TEXT/HTML:Local historical reenactor and antique collect
 or Todd Brighton discusses 5 citizen-soldiers who served alongside George 
 Washington and displays Revolutionary-era items from his collection. 7 p.m
 .\, Salem Township Hall\, 9600 Six Mile\, Salem Twp. $2 (members\, free). 
 (248) 437–6651.
CATEGORIES:Observer Editor
URL;VALUE=URI:https://annarborobserver.com/mc-events/patriots-everyday-citi
 zens-and-the-founding-of-america-salem-area-historical-society/
METHOD:PUBLISH
END:VEVENT
END:VCALENDAR