BEGIN:VCALENDAR
VERSION:2.0
PRODID:spatie/icalendar-generator
DESCRIPTION:Events from Ann Arbor Observer
X-WR-CALDESC:Events from Ann Arbor Observer
REFRESH-INTERVAL;VALUE=DURATION:PT1440M
X-PUBLISHED-TTL:PT1440M
BEGIN:VTIMEZONE
TZID:America/Detroit
BEGIN:STANDARD
DTSTART:20251102T020000Z
TZOFFSETFROM:-0400
TZOFFSETTO:-0500
END:STANDARD
BEGIN:DAYLIGHT
DTSTART:20260308T020000Z
TZOFFSETFROM:-0500
TZOFFSETTO:-0400
END:DAYLIGHT
END:VTIMEZONE
BEGIN:VTIMEZONE
TZID:UTC
BEGIN:STANDARD
DTSTART:20250729T143730Z
TZOFFSETFROM:+0000
TZOFFSETTO:+0000
END:STANDARD
END:VTIMEZONE
BEGIN:VEVENT
UID:61968-61186
DTSTAMP:20260425T143730Z
SUMMARY:“Playfest 2026”: U-M Theatre Department
LOCATION:
ORGANIZER;CN=Emily Landau:MAILTO:emily@aaobserver.com
DTSTART;TZID=America/Detroit:20260423T200000
DTEND;TZID=America/Detroit:20260423T210000
X-ALT-DESC;FMTTYPE=TEXT/HTML:Apr. 23–25. A series of rehearsed staged rea
 dings of plays by student playwrights. Tonight: Jocelyn Fradette’s Venus
 . 8 p.m. (Thurs. &amp;amp\; Fri.) and 4 &amp;amp\; 7 p.m. (Sat.)\, U-M Walgreen Dr
 ama Center\, Newman Studio\, 1226 Murfin. Free. (734) 764–5350.
CATEGORIES:Observer Editor,  Free
URL;VALUE=URI:https://annarborobserver.com/mc-events/playfest-2026-u-m-thea
 tre-department/
METHOD:PUBLISH
END:VEVENT
END:VCALENDAR