BEGIN:VCALENDAR
VERSION:2.0
PRODID:spatie/icalendar-generator
DESCRIPTION:Events from Ann Arbor Observer
X-WR-CALDESC:Events from Ann Arbor Observer
REFRESH-INTERVAL;VALUE=DURATION:PT1440M
X-PUBLISHED-TTL:PT1440M
BEGIN:VTIMEZONE
TZID:America/Detroit
BEGIN:STANDARD
DTSTART:20251102T020000Z
TZOFFSETFROM:-0400
TZOFFSETTO:-0500
END:STANDARD
BEGIN:DAYLIGHT
DTSTART:20260308T020000Z
TZOFFSETFROM:-0500
TZOFFSETTO:-0400
END:DAYLIGHT
END:VTIMEZONE
BEGIN:VTIMEZONE
TZID:UTC
BEGIN:STANDARD
DTSTART:20250729T001539Z
TZOFFSETFROM:+0000
TZOFFSETTO:+0000
END:STANDARD
END:VTIMEZONE
BEGIN:VEVENT
UID:61965-61183
DTSTAMP:20260425T001539Z
SUMMARY:Matt McClowry: Ann Arbor Comedy Showcase
LOCATION:
ORGANIZER;CN=Emily Landau:MAILTO:emily@aaobserver.com
DTSTART;TZID=America/Detroit:20260424T191500
DTEND;TZID=America/Detroit:20260424T201500
X-ALT-DESC;FMTTYPE=TEXT/HTML:Apr. 23–25. An awkward\, gentle comic trappe
 d in a hulking physique with an intense gaze\, McClowry surprises with his
  annoyed\, laconic\, mordantly dry takes on topics from horoscopes to filt
 hy hotel rooms. Opening acts TBA. 7:15 p.m. (Thurs.–Sat.) &amp;amp\; 9:45 p.
 m. (Sat.)\, 212 S. Fourth Ave. $20 (Thurs.\, $15) at aacomedy.com &amp;amp\; a
 t the door.&amp;hellip\;
CATEGORIES:Observer Editor
URL;VALUE=URI:https://annarborobserver.com/mc-events/matt-mcclowry-ann-arbo
 r-comedy-showcase-2/
METHOD:PUBLISH
END:VEVENT
END:VCALENDAR