BEGIN:VCALENDAR
VERSION:2.0
PRODID:spatie/icalendar-generator
DESCRIPTION:Events from Ann Arbor Observer
X-WR-CALDESC:Events from Ann Arbor Observer
REFRESH-INTERVAL;VALUE=DURATION:PT1440M
X-PUBLISHED-TTL:PT1440M
BEGIN:VTIMEZONE
TZID:America/Detroit
BEGIN:STANDARD
DTSTART:20251102T020000Z
TZOFFSETFROM:-0400
TZOFFSETTO:-0500
END:STANDARD
BEGIN:DAYLIGHT
DTSTART:20260308T020000Z
TZOFFSETFROM:-0500
TZOFFSETTO:-0400
END:DAYLIGHT
END:VTIMEZONE
BEGIN:VTIMEZONE
TZID:UTC
BEGIN:STANDARD
DTSTART:20250727T193915Z
TZOFFSETFROM:+0000
TZOFFSETTO:+0000
END:STANDARD
END:VTIMEZONE
BEGIN:VEVENT
UID:61963-61181
DTSTAMP:20260423T193915Z
SUMMARY:“Earth Day Circle Sing”: We the People Opportunity Farm Fundrai
 ser
LOCATION:
ORGANIZER;CN=Emily Landau:MAILTO:emily@aaobserver.com
DTSTART;TZID=America/Detroit:20260423T183000
DTEND;TZID=America/Detroit:20260423T203000
X-ALT-DESC;FMTTYPE=TEXT/HTML:All invited to sit in a circle to sing with an
 d for each other improvisationally\, inspired by Bobby McFerrin’s Circle
 songs. Anyone who feels inspired can take a solo or conduct a song\, givin
 g out improvised parts that harmonize. Funds benefit We the People Opportu
 nity Farm\, which provides meaningful work and a supportive community for 
 formerly&amp;hellip\;
CATEGORIES:Observer Editor,  Donation
URL;VALUE=URI:https://annarborobserver.com/mc-events/earth-day-circle-sing-
 we-the-people-opportunity-farm-fundraiser/
METHOD:PUBLISH
END:VEVENT
END:VCALENDAR