BEGIN:VCALENDAR
VERSION:2.0
PRODID:spatie/icalendar-generator
DESCRIPTION:Events from Ann Arbor Observer
X-WR-CALDESC:Events from Ann Arbor Observer
REFRESH-INTERVAL;VALUE=DURATION:PT1440M
X-PUBLISHED-TTL:PT1440M
BEGIN:VTIMEZONE
TZID:America/Detroit
BEGIN:STANDARD
DTSTART:20251102T020000Z
TZOFFSETFROM:-0400
TZOFFSETTO:-0500
END:STANDARD
BEGIN:DAYLIGHT
DTSTART:20260308T020000Z
TZOFFSETFROM:-0500
TZOFFSETTO:-0400
END:DAYLIGHT
END:VTIMEZONE
BEGIN:VTIMEZONE
TZID:UTC
BEGIN:STANDARD
DTSTART:20250729T102223Z
TZOFFSETFROM:+0000
TZOFFSETTO:+0000
END:STANDARD
END:VTIMEZONE
BEGIN:VEVENT
UID:61959-61177
DTSTAMP:20260425T102223Z
SUMMARY:“Adult Art &amp;amp\; Nature”: Ann Arbor Parks &amp;amp\; Recreation
LOCATION:
ORGANIZER;CN=Emily Landau:MAILTO:emily@aaobserver.com
DTSTART;TZID=America/Detroit:20260423T170000
DTEND;TZID=America/Detroit:20260423T190000
X-ALT-DESC;FMTTYPE=TEXT/HTML:City environmental educator Eleva Potter leads
  adults age 18 &amp;amp\; up in learning about and painting portraits of local
  birds. 5–7 p.m.\, Gallup Park meeting rm.\, 3000 Fuller. Free\, preregi
 stration required at tinyurl.com/a2parksrec. epotter@a2gov.org.
CATEGORIES:Observer Editor,  Free
URL;VALUE=URI:https://annarborobserver.com/mc-events/adult-art-nature-ann-a
 rbor-parks-recreation/
METHOD:PUBLISH
END:VEVENT
END:VCALENDAR