BEGIN:VCALENDAR
VERSION:2.0
PRODID:spatie/icalendar-generator
DESCRIPTION:Events from Ann Arbor Observer
X-WR-CALDESC:Events from Ann Arbor Observer
REFRESH-INTERVAL;VALUE=DURATION:PT1440M
X-PUBLISHED-TTL:PT1440M
BEGIN:VTIMEZONE
TZID:America/Detroit
BEGIN:STANDARD
DTSTART:20251102T020000Z
TZOFFSETFROM:-0400
TZOFFSETTO:-0500
END:STANDARD
BEGIN:DAYLIGHT
DTSTART:20260308T020000Z
TZOFFSETFROM:-0500
TZOFFSETTO:-0400
END:DAYLIGHT
END:VTIMEZONE
BEGIN:VTIMEZONE
TZID:UTC
BEGIN:STANDARD
DTSTART:20250729T213935Z
TZOFFSETFROM:+0000
TZOFFSETTO:+0000
END:STANDARD
END:VTIMEZONE
BEGIN:VEVENT
UID:61509-60727
DTSTAMP:20260425T213935Z
SUMMARY:“The Labyrinth of Waking Dreams”: Schuler Books
LOCATION:
ORGANIZER;CN=Emily Landau:MAILTO:emily@aaobserver.com
DTSTART;TZID=America/Detroit:20260421T183000
DTEND;TZID=America/Detroit:20260421T193000
X-ALT-DESC;FMTTYPE=TEXT/HTML:Midwest writer Michelle Kulwicki discusses her
  new YA fantasy novel about a group of teens who discover a gateway to a m
 ythical labyrinth in the Appalachian Mountains. Signing. 6:30 p.m.\, Westg
 ate Shopping Center. Free\; preregistration requested at schulerbooks.com/
 events-ann-arbor. (734) 662–0600.
CATEGORIES:Observer Editor,  Free
URL;VALUE=URI:https://annarborobserver.com/mc-events/the-labyrinth-of-wakin
 g-dreams-schuler-books/
METHOD:PUBLISH
END:VEVENT
END:VCALENDAR