BEGIN:VCALENDAR
VERSION:2.0
PRODID:spatie/icalendar-generator
DESCRIPTION:Events from Ann Arbor Observer
X-WR-CALDESC:Events from Ann Arbor Observer
REFRESH-INTERVAL;VALUE=DURATION:PT1440M
X-PUBLISHED-TTL:PT1440M
BEGIN:VTIMEZONE
TZID:America/Detroit
BEGIN:STANDARD
DTSTART:20251102T020000Z
TZOFFSETFROM:-0400
TZOFFSETTO:-0500
END:STANDARD
BEGIN:DAYLIGHT
DTSTART:20260308T020000Z
TZOFFSETFROM:-0500
TZOFFSETTO:-0400
END:DAYLIGHT
END:VTIMEZONE
BEGIN:VTIMEZONE
TZID:UTC
BEGIN:STANDARD
DTSTART:20250729T013727Z
TZOFFSETFROM:+0000
TZOFFSETTO:+0000
END:STANDARD
END:VTIMEZONE
BEGIN:VEVENT
UID:61416-60634
DTSTAMP:20260425T013727Z
SUMMARY:Fantasy and Science Fiction/Theory Reading Group: U-M English Depar
 tment
LOCATION:
ORGANIZER;CN=Emily Landau:MAILTO:emily@aaobserver.com
DTSTART;TZID=America/Detroit:20260414T190000
DTEND;TZID=America/Detroit:20260414T210000
X-ALT-DESC;FMTTYPE=TEXT/HTML:All age 21 &amp;amp\; over invited to discuss (via
  Zoom) The Lathe Of Heaven\, Ursula K. LeGuin’s 1971 sci-fi classic abou
 t an ordinary man in a dystopian future Portland who discovers that his dr
 eams have the ability to alter reality\, and the unscrupulous psychiatrist
  who wants to exploit his gift. 7–9 p.m.\, For questions\, virtual&amp;helli
 p\;
CATEGORIES:Observer Editor,  Free,  Online
URL;VALUE=URI:https://annarborobserver.com/mc-events/fantasy-and-science-fi
 ction-theory-reading-group-u-m-english-department-4/
METHOD:PUBLISH
END:VEVENT
END:VCALENDAR