BEGIN:VCALENDAR
VERSION:2.0
PRODID:spatie/icalendar-generator
DESCRIPTION:Events from Ann Arbor Observer
X-WR-CALDESC:Events from Ann Arbor Observer
REFRESH-INTERVAL;VALUE=DURATION:PT1440M
X-PUBLISHED-TTL:PT1440M
BEGIN:VTIMEZONE
TZID:America/Detroit
BEGIN:STANDARD
DTSTART:20251102T020000Z
TZOFFSETFROM:-0400
TZOFFSETTO:-0500
END:STANDARD
BEGIN:DAYLIGHT
DTSTART:20260308T020000Z
TZOFFSETFROM:-0500
TZOFFSETTO:-0400
END:DAYLIGHT
END:VTIMEZONE
BEGIN:VTIMEZONE
TZID:UTC
BEGIN:STANDARD
DTSTART:20250724T101014Z
TZOFFSETFROM:+0000
TZOFFSETTO:+0000
END:STANDARD
END:VTIMEZONE
BEGIN:VEVENT
UID:61413-60631
DTSTAMP:20260420T101014Z
SUMMARY:\"A Million Dreams Together\" Showcase: The SAPlings (Saline Area P
 layers youngsters)
LOCATION:
ORGANIZER;CN=Jen Taylor:MAILTO:jen@aaobserver.com
DTSTART;TZID=America/Detroit:20260418T140000
DTEND;TZID=America/Detroit:20260418T150000
X-ALT-DESC;FMTTYPE=TEXT/HTML:\"A Million Dreams Together\" Showcase: The SA
 Plings (Saline Area Players youngsters). Apr. 18 &amp;amp\; 19. Ten school age
  performers present group songs\, solos\, and skits. 2 p.m.\, The Well Chu
 rch in Saline\, 211 Willis\, Saline. $10 in advance at our.show/etuqnp6ajp
  and cash\, check\, or card at the door. 
CATEGORIES:Observer Editor
URL;VALUE=URI:https://annarborobserver.com/mc-events/a-million-dreams-toget
 her-showcase-the-saplings-saline-area-players-youngsters/
METHOD:PUBLISH
END:VEVENT
END:VCALENDAR