BEGIN:VCALENDAR
VERSION:2.0
PRODID:spatie/icalendar-generator
DESCRIPTION:Events from Ann Arbor Observer
X-WR-CALDESC:Events from Ann Arbor Observer
REFRESH-INTERVAL;VALUE=DURATION:PT1440M
X-PUBLISHED-TTL:PT1440M
BEGIN:VTIMEZONE
TZID:America/Detroit
BEGIN:STANDARD
DTSTART:20251102T020000Z
TZOFFSETFROM:-0400
TZOFFSETTO:-0500
END:STANDARD
BEGIN:DAYLIGHT
DTSTART:20260308T020000Z
TZOFFSETFROM:-0500
TZOFFSETTO:-0400
END:DAYLIGHT
END:VTIMEZONE
BEGIN:VTIMEZONE
TZID:UTC
BEGIN:STANDARD
DTSTART:20250727T001424Z
TZOFFSETFROM:+0000
TZOFFSETTO:+0000
END:STANDARD
END:VTIMEZONE
BEGIN:VEVENT
UID:61381-60602
DTSTAMP:20260423T001424Z
SUMMARY:Candlelight Yoga + Reiki + Live Cello Experience
LOCATION:
ORGANIZER;CN=Jen Taylor:MAILTO:jen@aaobserver.com
DTSTART;TZID=America/Detroit:20260422T183000
DTEND;TZID=America/Detroit:20260422T200000
X-ALT-DESC;FMTTYPE=TEXT/HTML:✨ Candlelight Yoga\, Reiki &amp;amp\; Live Cello
  Experience ✨ Step into a peaceful evening designed to help you slow dow
 n\, reconnect\, and restore your energy. Surrounded by soft candlelight an
 d the soothing sound of live cello\, this special experience blends heart-
 centered yoga\, energy healing\, and live music to create a deeply peacefu
 l atmosphere for body&amp;hellip\;
CATEGORIES:Community Listing
URL;VALUE=URI:https://annarborobserver.com/mc-events/candlelight-yoga-reiki
 -live-cello-experience/
METHOD:PUBLISH
END:VEVENT
END:VCALENDAR