BEGIN:VCALENDAR
VERSION:2.0
PRODID:spatie/icalendar-generator
DESCRIPTION:Events from Ann Arbor Observer
X-WR-CALDESC:Events from Ann Arbor Observer
REFRESH-INTERVAL;VALUE=DURATION:PT1440M
X-PUBLISHED-TTL:PT1440M
BEGIN:VTIMEZONE
TZID:America/Detroit
BEGIN:STANDARD
DTSTART:20251102T020000Z
TZOFFSETFROM:-0400
TZOFFSETTO:-0500
END:STANDARD
BEGIN:DAYLIGHT
DTSTART:20260308T020000Z
TZOFFSETFROM:-0500
TZOFFSETTO:-0400
END:DAYLIGHT
END:VTIMEZONE
BEGIN:VTIMEZONE
TZID:UTC
BEGIN:STANDARD
DTSTART:20250728T215105Z
TZOFFSETFROM:+0000
TZOFFSETTO:+0000
END:STANDARD
END:VTIMEZONE
BEGIN:VEVENT
UID:61337-60560
DTSTAMP:20260424T215105Z
SUMMARY:Apple Playschools Open House
LOCATION:
ORGANIZER;CN=Jen Taylor:MAILTO:jen@aaobserver.com
DTSTART;TZID=America/Detroit:20260418T100000
DTEND;TZID=America/Detroit:20260418T113000
X-ALT-DESC;FMTTYPE=TEXT/HTML:Join Apple Playschools for an Open House! Fami
 lies looking for care for their children ages 2.5-5 years old are invited 
 to drop in anytime between 10am-11:30am for an Open House at Green Apple G
 arden's Upper School. Interested families can tour the new building and ch
 at with the Program Director to see if Green Apple Garden&amp;hellip\;
CATEGORIES:Community Listing,  Free
URL;VALUE=URI:https://annarborobserver.com/mc-events/apple-playschools-open
 -house-2/
METHOD:PUBLISH
END:VEVENT
END:VCALENDAR