BEGIN:VCALENDAR
VERSION:2.0
PRODID:spatie/icalendar-generator
DESCRIPTION:Events from Ann Arbor Observer
X-WR-CALDESC:Events from Ann Arbor Observer
REFRESH-INTERVAL;VALUE=DURATION:PT1440M
X-PUBLISHED-TTL:PT1440M
BEGIN:VTIMEZONE
TZID:America/Detroit
BEGIN:STANDARD
DTSTART:20251102T020000Z
TZOFFSETFROM:-0400
TZOFFSETTO:-0500
END:STANDARD
BEGIN:DAYLIGHT
DTSTART:20260308T020000Z
TZOFFSETFROM:-0500
TZOFFSETTO:-0400
END:DAYLIGHT
END:VTIMEZONE
BEGIN:VTIMEZONE
TZID:UTC
BEGIN:STANDARD
DTSTART:20250729T182347Z
TZOFFSETFROM:+0000
TZOFFSETTO:+0000
END:STANDARD
END:VTIMEZONE
BEGIN:VEVENT
UID:58631-57885
DTSTAMP:20260425T182347Z
SUMMARY:Natural Homemade Cleaners Workshop (Milan Public Library)
LOCATION:
ORGANIZER;CN=Jen Taylor:MAILTO:jen@aaobserver.com
DTSTART;TZID=America/Detroit:20260421T190000
DTEND;TZID=America/Detroit:20260421T200000
X-ALT-DESC;FMTTYPE=TEXT/HTML:Instructor Kim Niblack will teach class partic
 ipants how to create their own environmentally friendly\, non-toxic cleani
 ng products\, including a glass cleaner\, a scrub like Comet and cleaning 
 wipes\, on Tuesday\, April 21\, 2026\, 7 p.m. – 8 p.m. at The Center\, 4
 5 Neckel Ct. They will also have the opportunity to make a blended homemad
 e&amp;hellip\;
CATEGORIES:Community Listing
URL;VALUE=URI:https://annarborobserver.com/mc-events/natural-homemade-clean
 ers-workshop-milan-public-library/
METHOD:PUBLISH
END:VEVENT
END:VCALENDAR