BEGIN:VCALENDAR
VERSION:2.0
PRODID:spatie/icalendar-generator
DESCRIPTION:Events from Ann Arbor Observer
X-WR-CALDESC:Events from Ann Arbor Observer
REFRESH-INTERVAL;VALUE=DURATION:PT1440M
X-PUBLISHED-TTL:PT1440M
BEGIN:VTIMEZONE
TZID:America/Detroit
BEGIN:STANDARD
DTSTART:20251102T020000Z
TZOFFSETFROM:-0400
TZOFFSETTO:-0500
END:STANDARD
BEGIN:DAYLIGHT
DTSTART:20260308T020000Z
TZOFFSETFROM:-0500
TZOFFSETTO:-0400
END:DAYLIGHT
END:VTIMEZONE
BEGIN:VTIMEZONE
TZID:UTC
BEGIN:STANDARD
DTSTART:20250724T160001Z
TZOFFSETFROM:+0000
TZOFFSETTO:+0000
END:STANDARD
END:VTIMEZONE
BEGIN:VEVENT
UID:62523-61741
DTSTAMP:20260420T160001Z
SUMMARY:\"Imagining and Building a Better World for Black Families\"
LOCATION:
ORGANIZER;CN=Jen Taylor:MAILTO:jen@aaobserver.com
DTSTART;TZID=America/Detroit:20260416T130000
DTEND;TZID=America/Detroit:20260416T143000
X-ALT-DESC;FMTTYPE=TEXT/HTML:This conversation with Dorothy Roberts and Joy
 ce McMillan centers the lived experiences of families impacted by welfare 
 systems and considers possibilities for building new systems of care. Mode
 rated by social work educator and practitioner\, Rick Barinbaum\, attendee
 s from a range of educational backgrounds (e.g.\, social work\, sociology\
 , law\, public policy\, medicine) will deepen their understandings&amp;hellip\
 ;
CATEGORIES:Community Listing
URL;VALUE=URI:https://annarborobserver.com/mc-events/imagining-and-building
 -a-better-world-for-black-families/
METHOD:PUBLISH
END:VEVENT
END:VCALENDAR