BEGIN:VCALENDAR
VERSION:2.0
PRODID:spatie/icalendar-generator
DESCRIPTION:Events from Ann Arbor Observer
X-WR-CALDESC:Events from Ann Arbor Observer
REFRESH-INTERVAL;VALUE=DURATION:PT1440M
X-PUBLISHED-TTL:PT1440M
BEGIN:VTIMEZONE
TZID:America/Detroit
BEGIN:STANDARD
DTSTART:20251102T020000Z
TZOFFSETFROM:-0400
TZOFFSETTO:-0500
END:STANDARD
BEGIN:DAYLIGHT
DTSTART:20260308T020000Z
TZOFFSETFROM:-0500
TZOFFSETTO:-0400
END:DAYLIGHT
END:VTIMEZONE
BEGIN:VTIMEZONE
TZID:UTC
BEGIN:STANDARD
DTSTART:20250730T033507Z
TZOFFSETFROM:+0000
TZOFFSETTO:+0000
END:STANDARD
END:VTIMEZONE
BEGIN:VEVENT
UID:62445-61663
DTSTAMP:20260426T033507Z
SUMMARY:17th Annual Ride for Recovery: Dawn Farm Fundraiser
LOCATION:
ORGANIZER;CN=Emily Landau:MAILTO:emily@aaobserver.com
DTSTART;TZID=America/Detroit:20260426T070000
DTEND;TZID=America/Detroit:20260426T140000
X-ALT-DESC;FMTTYPE=TEXT/HTML:Bike rides from 10K to 58 miles and 5K &amp;amp\; 
 10K run-walks to raise money for this substance use recovery nonprofit. Fo
 llowed by lunch. 7 a.m.–2 p.m.\, Dawn Farm\, 6633 Stony Creek Rd.\, Ypsi
 . $40 ($30 before Apr. 1\; lunch only\, $5) in advance only at dawnfarmrid
 eforrecovery.org. (734) 485–8725.
CATEGORIES:Observer Editor
URL;VALUE=URI:https://annarborobserver.com/mc-events/17th-annual-ride-for-r
 ecovery-dawn-farm-fundraiser/
METHOD:PUBLISH
END:VEVENT
END:VCALENDAR