BEGIN:VCALENDAR
VERSION:2.0
PRODID:spatie/icalendar-generator
DESCRIPTION:Events from Ann Arbor Observer
X-WR-CALDESC:Events from Ann Arbor Observer
REFRESH-INTERVAL;VALUE=DURATION:PT1440M
X-PUBLISHED-TTL:PT1440M
BEGIN:VTIMEZONE
TZID:America/Detroit
BEGIN:STANDARD
DTSTART:20251102T020000Z
TZOFFSETFROM:-0400
TZOFFSETTO:-0500
END:STANDARD
BEGIN:DAYLIGHT
DTSTART:20260308T020000Z
TZOFFSETFROM:-0500
TZOFFSETTO:-0400
END:DAYLIGHT
END:VTIMEZONE
BEGIN:VTIMEZONE
TZID:UTC
BEGIN:STANDARD
DTSTART:20250729T194915Z
TZOFFSETFROM:+0000
TZOFFSETTO:+0000
END:STANDARD
END:VTIMEZONE
BEGIN:VEVENT
UID:62404-61622
DTSTAMP:20260425T194915Z
SUMMARY:Gardening and Farm Fest: Ann Arbor District Library
LOCATION:
ORGANIZER;CN=Emily Landau:MAILTO:emily@aaobserver.com
DTSTART;TZID=America/Detroit:20260419T110000
DTEND;TZID=America/Detroit:20260419T160000
X-ALT-DESC;FMTTYPE=TEXT/HTML:A daylong event celebrating gardening and natu
 re with all-ages hands-on activities TBA (see aadl.org/events). Also\, a s
 eed swap\, artisans and farmers selling their wares\, and representatives 
 from local farms who offer CSA (Community Supported Agriculture) shares. 1
 1 a.m.–4 p.m.\, AADL Downtown. Free. (734) 327–4200.
CATEGORIES:Observer Editor,  Free
URL;VALUE=URI:https://annarborobserver.com/mc-events/gardening-and-farm-fes
 t-ann-arbor-district-library/
METHOD:PUBLISH
END:VEVENT
END:VCALENDAR