BEGIN:VCALENDAR
VERSION:2.0
PRODID:spatie/icalendar-generator
DESCRIPTION:Events from Ann Arbor Observer
X-WR-CALDESC:Events from Ann Arbor Observer
REFRESH-INTERVAL;VALUE=DURATION:PT1440M
X-PUBLISHED-TTL:PT1440M
BEGIN:VTIMEZONE
TZID:America/Detroit
BEGIN:STANDARD
DTSTART:20251102T020000Z
TZOFFSETFROM:-0400
TZOFFSETTO:-0500
END:STANDARD
BEGIN:DAYLIGHT
DTSTART:20260308T020000Z
TZOFFSETFROM:-0500
TZOFFSETTO:-0400
END:DAYLIGHT
END:VTIMEZONE
BEGIN:VTIMEZONE
TZID:UTC
BEGIN:STANDARD
DTSTART:20250729T161336Z
TZOFFSETFROM:+0000
TZOFFSETTO:+0000
END:STANDARD
END:VTIMEZONE
BEGIN:VEVENT
UID:62390-61608
DTSTAMP:20260425T161336Z
SUMMARY:“Choreo Cabaret”: Terpsichore Collective
LOCATION:
ORGANIZER;CN=Emily Landau:MAILTO:emily@aaobserver.com
DTSTART;TZID=America/Detroit:20260419T170000
DTEND;TZID=America/Detroit:20260419T190000
X-ALT-DESC;FMTTYPE=TEXT/HTML:This local professional contemporary dance tro
 upe invites all age 18+ to give their dancers prompts and feedback for an 
 improvised dance to be finished in time for the collective’s October con
 cert. The event includes audience voting on choreographic choices\, music\
 , and costumes\, and discussion of various options. Alcohol served. 5–7 
 p.m.\, Uplift Ann Arbor\, 210&amp;hellip\;
CATEGORIES:Observer Editor
URL;VALUE=URI:https://annarborobserver.com/mc-events/choreo-cabaret-terpsic
 hore-collective/
METHOD:PUBLISH
END:VEVENT
END:VCALENDAR