BEGIN:VCALENDAR
VERSION:2.0
PRODID:spatie/icalendar-generator
DESCRIPTION:Events from Ann Arbor Observer
X-WR-CALDESC:Events from Ann Arbor Observer
REFRESH-INTERVAL;VALUE=DURATION:PT1440M
X-PUBLISHED-TTL:PT1440M
BEGIN:VTIMEZONE
TZID:America/Detroit
BEGIN:STANDARD
DTSTART:20251102T020000Z
TZOFFSETFROM:-0400
TZOFFSETTO:-0500
END:STANDARD
BEGIN:DAYLIGHT
DTSTART:20260308T020000Z
TZOFFSETFROM:-0500
TZOFFSETTO:-0400
END:DAYLIGHT
END:VTIMEZONE
BEGIN:VTIMEZONE
TZID:UTC
BEGIN:STANDARD
DTSTART:20250728T202722Z
TZOFFSETFROM:+0000
TZOFFSETTO:+0000
END:STANDARD
END:VTIMEZONE
BEGIN:VEVENT
UID:62377-61595
DTSTAMP:20260424T202722Z
SUMMARY:“The Science of Physicist Jens Zorn's Art”: U-M Physics Departm
 ent Saturday Morning Physics
LOCATION:
ORGANIZER;CN=Emily Landau:MAILTO:emily@aaobserver.com
DTSTART;TZID=America/Detroit:20260418T103000
DTEND;TZID=America/Detroit:20260418T113000
X-ALT-DESC;FMTTYPE=TEXT/HTML:U-M faculty TBA discuss this former U-M physic
 s professor who began a second career in the 90s creating sculptures that 
 commemorate great discoveries in physics and optics\, many of which can be
  seen on campus. Part of a popular series of talks aimed at general audien
 ces\, by U-M scholars. 10:30 a.m.\, 170 Weiser Hall\, 500&amp;hellip\;
CATEGORIES:Observer Editor,  Free
URL;VALUE=URI:https://annarborobserver.com/mc-events/the-science-of-physici
 st-jens-zorns-art-u-m-physics-department-saturday-morning-physics/
METHOD:PUBLISH
END:VEVENT
END:VCALENDAR