BEGIN:VCALENDAR
VERSION:2.0
PRODID:spatie/icalendar-generator
DESCRIPTION:Events from Ann Arbor Observer
X-WR-CALDESC:Events from Ann Arbor Observer
REFRESH-INTERVAL;VALUE=DURATION:PT1440M
X-PUBLISHED-TTL:PT1440M
BEGIN:VTIMEZONE
TZID:America/Detroit
BEGIN:STANDARD
DTSTART:20251102T020000Z
TZOFFSETFROM:-0400
TZOFFSETTO:-0500
END:STANDARD
BEGIN:DAYLIGHT
DTSTART:20260308T020000Z
TZOFFSETFROM:-0500
TZOFFSETTO:-0400
END:DAYLIGHT
END:VTIMEZONE
BEGIN:VTIMEZONE
TZID:UTC
BEGIN:STANDARD
DTSTART:20250728T203654Z
TZOFFSETFROM:+0000
TZOFFSETTO:+0000
END:STANDARD
END:VTIMEZONE
BEGIN:VEVENT
UID:62355-61573
DTSTAMP:20260424T203654Z
SUMMARY:“Finding Your Voice”: U-M School of Art &amp;amp\; Design Penny Sta
 mps Speaker Series
LOCATION:
ORGANIZER;CN=Emily Landau:MAILTO:emily@aaobserver.com
DTSTART;TZID=America/Detroit:20260416T173000
DTEND;TZID=America/Detroit:20260416T190000
X-ALT-DESC;FMTTYPE=TEXT/HTML:New York City–based interior designer and po
 tter Jonathan Adler discusses his work and design philosophy. He has appea
 red on Good Morning America and the Oprah Winfrey Show. In an interview wi
 th the Wall Street Journal\, he described his namesake brand as “modern 
 American glamour and eccentricity.” 5:30–7 p.m.\, Michigan Theater. Fr
 ee. Livestream available. (734) 936–0671\,&amp;hellip\;
CATEGORIES:Observer Editor,  Free,  Hybrid
URL;VALUE=URI:https://annarborobserver.com/mc-events/finding-your-voice-u-m
 -school-of-art-design-penny-stamps-speaker-series/
METHOD:PUBLISH
END:VEVENT
END:VCALENDAR