BEGIN:VCALENDAR
VERSION:2.0
PRODID:spatie/icalendar-generator
DESCRIPTION:Events from Ann Arbor Observer
X-WR-CALDESC:Events from Ann Arbor Observer
REFRESH-INTERVAL;VALUE=DURATION:PT1440M
X-PUBLISHED-TTL:PT1440M
BEGIN:VTIMEZONE
TZID:America/Detroit
BEGIN:STANDARD
DTSTART:20251102T020000Z
TZOFFSETFROM:-0400
TZOFFSETTO:-0500
END:STANDARD
BEGIN:DAYLIGHT
DTSTART:20260308T020000Z
TZOFFSETFROM:-0500
TZOFFSETTO:-0400
END:DAYLIGHT
END:VTIMEZONE
BEGIN:VTIMEZONE
TZID:UTC
BEGIN:STANDARD
DTSTART:20250729T182603Z
TZOFFSETFROM:+0000
TZOFFSETTO:+0000
END:STANDARD
END:VTIMEZONE
BEGIN:VEVENT
UID:62275-61493
DTSTAMP:20260425T182603Z
SUMMARY:Third Space Sundays
LOCATION:
ORGANIZER;CN=Emily Landau:MAILTO:emily@aaobserver.com
DTSTART;TZID=America/Detroit:20260412T103000
DTEND;TZID=America/Detroit:20260412T113000
X-ALT-DESC;FMTTYPE=TEXT/HTML:Every Sun.\, except Apr. 5. All invited to tak
 e part in a one-hour ritual of guided verbal &amp;amp\; writing exercises to e
 ncourage reflection and connection. Kids welcome. Doors open at 10:15 a.m.
  10:30–11:30 a.m.\, Venue\, 1919 South Industrial. Free. Preregistration
  required at thirdspacesundays.org. info@thirdspacesundays.org.
CATEGORIES:Observer Editor,  Free
URL;VALUE=URI:https://annarborobserver.com/mc-events/third-space-sundays-5/
METHOD:PUBLISH
END:VEVENT
END:VCALENDAR