BEGIN:VCALENDAR
VERSION:2.0
PRODID:spatie/icalendar-generator
DESCRIPTION:Events from Ann Arbor Observer
X-WR-CALDESC:Events from Ann Arbor Observer
REFRESH-INTERVAL;VALUE=DURATION:PT1440M
X-PUBLISHED-TTL:PT1440M
BEGIN:VTIMEZONE
TZID:America/Detroit
BEGIN:STANDARD
DTSTART:20251102T020000Z
TZOFFSETFROM:-0400
TZOFFSETTO:-0500
END:STANDARD
BEGIN:DAYLIGHT
DTSTART:20260308T020000Z
TZOFFSETFROM:-0500
TZOFFSETTO:-0400
END:DAYLIGHT
END:VTIMEZONE
BEGIN:VTIMEZONE
TZID:UTC
BEGIN:STANDARD
DTSTART:20250730T034927Z
TZOFFSETFROM:+0000
TZOFFSETTO:+0000
END:STANDARD
END:VTIMEZONE
BEGIN:VEVENT
UID:62068-61286
DTSTAMP:20260426T034927Z
SUMMARY:Earth Day Electric Vehicle Ride and Drive
LOCATION:
ORGANIZER;CN=Jen Taylor:MAILTO:jen@aaobserver.com
DTSTART;TZID=America/Detroit:20260426T100000
DTEND;TZID=America/Detroit:20260426T150000
X-ALT-DESC;FMTTYPE=TEXT/HTML:If you have questions about Electric Vehicles\
 , this is the group that can help you! We are EV advocates and own all sor
 ts and brands of electric vehicles. Questions about charging? What vehicle
  to buy? Should you buy a new or used? Range anxiety? How much do they rea
 lly cost to operate? We have all&amp;hellip\;
CATEGORIES:Community Listing,  Free
URL;VALUE=URI:https://annarborobserver.com/mc-events/earth-day-electric-veh
 icle-ride-and-drive/
METHOD:PUBLISH
END:VEVENT
END:VCALENDAR