BEGIN:VCALENDAR
VERSION:2.0
PRODID:spatie/icalendar-generator
DESCRIPTION:Events from Ann Arbor Observer
X-WR-CALDESC:Events from Ann Arbor Observer
REFRESH-INTERVAL;VALUE=DURATION:PT1440M
X-PUBLISHED-TTL:PT1440M
BEGIN:VTIMEZONE
TZID:America/Detroit
BEGIN:STANDARD
DTSTART:20251102T020000Z
TZOFFSETFROM:-0400
TZOFFSETTO:-0500
END:STANDARD
BEGIN:DAYLIGHT
DTSTART:20260308T020000Z
TZOFFSETFROM:-0500
TZOFFSETTO:-0400
END:DAYLIGHT
END:VTIMEZONE
BEGIN:VTIMEZONE
TZID:UTC
BEGIN:STANDARD
DTSTART:20250728T194602Z
TZOFFSETFROM:+0000
TZOFFSETTO:+0000
END:STANDARD
END:VTIMEZONE
BEGIN:VEVENT
UID:62036-61254
DTSTAMP:20260424T194602Z
SUMMARY:“An Evening with Ozone House”: Ozone House Fundraiser
LOCATION:
ORGANIZER;CN=Emily Landau:MAILTO:emily@aaobserver.com
DTSTART;TZID=America/Detroit:20260424T180000
DTEND;TZID=America/Detroit:20260424T210000
X-ALT-DESC;FMTTYPE=TEXT/HTML:Dinner\, cocktails\, hors d'oeuvres\, and live
  music by the Brain Plasticity Ukulele Collective. Also\, area youth share
  how Ozone House has helped them overcome housing instability. 6–9 p.m.\
 , WCC Morris Lawrence Bldg.\, Towsley Auditorum\, 4800 E. Huron River Dr. 
 Tickets $125 in advance only at ozonehouse.org/ewoh2026. (734) 662–2265.
CATEGORIES:Observer Editor
URL;VALUE=URI:https://annarborobserver.com/mc-events/an-evening-with-ozone-
 house-ozone-house-fundraiser/
METHOD:PUBLISH
END:VEVENT
END:VCALENDAR