BEGIN:VCALENDAR
VERSION:2.0
PRODID:spatie/icalendar-generator
DESCRIPTION:Events from Ann Arbor Observer
X-WR-CALDESC:Events from Ann Arbor Observer
REFRESH-INTERVAL;VALUE=DURATION:PT1440M
X-PUBLISHED-TTL:PT1440M
BEGIN:VTIMEZONE
TZID:America/Detroit
BEGIN:STANDARD
DTSTART:20251102T020000Z
TZOFFSETFROM:-0400
TZOFFSETTO:-0500
END:STANDARD
BEGIN:DAYLIGHT
DTSTART:20260308T020000Z
TZOFFSETFROM:-0500
TZOFFSETTO:-0400
END:DAYLIGHT
END:VTIMEZONE
BEGIN:VTIMEZONE
TZID:UTC
BEGIN:STANDARD
DTSTART:20250729T210525Z
TZOFFSETFROM:+0000
TZOFFSETTO:+0000
END:STANDARD
END:VTIMEZONE
BEGIN:VEVENT
UID:62023-61241
DTSTAMP:20260425T210525Z
SUMMARY:“Ride the Cyclone: Teen Edition”: Huron Players
LOCATION:
ORGANIZER;CN=Emily Landau:MAILTO:emily@aaobserver.com
DTSTART;TZID=America/Detroit:20260425T190000
DTEND;TZID=America/Detroit:20260425T200000
X-ALT-DESC;FMTTYPE=TEXT/HTML:Apr. 24–26. Huron High School students perfo
 rm a 90-minute version of Jacob Richmond &amp;amp\; Brooke Maxwell’s 2009 da
 rk musical comedy about 6 teenage choir members who are killed in a freak 
 roller coaster accident. When they awake in limbo\, they are met by a mech
 anical fortune teller who invites each to tell a story to&amp;hellip\;
CATEGORIES:Observer Editor
URL;VALUE=URI:https://annarborobserver.com/mc-events/ride-the-cyclone-teen-
 edition-huron-players-2/
METHOD:PUBLISH
END:VEVENT
END:VCALENDAR