BEGIN:VCALENDAR
VERSION:2.0
PRODID:spatie/icalendar-generator
DESCRIPTION:Events from Ann Arbor Observer
X-WR-CALDESC:Events from Ann Arbor Observer
REFRESH-INTERVAL;VALUE=DURATION:PT1440M
X-PUBLISHED-TTL:PT1440M
BEGIN:VTIMEZONE
TZID:America/Detroit
BEGIN:STANDARD
DTSTART:20251102T020000Z
TZOFFSETFROM:-0400
TZOFFSETTO:-0500
END:STANDARD
BEGIN:DAYLIGHT
DTSTART:20260308T020000Z
TZOFFSETFROM:-0500
TZOFFSETTO:-0400
END:DAYLIGHT
END:VTIMEZONE
BEGIN:VTIMEZONE
TZID:UTC
BEGIN:STANDARD
DTSTART:20250727T165528Z
TZOFFSETFROM:+0000
TZOFFSETTO:+0000
END:STANDARD
END:VTIMEZONE
BEGIN:VEVENT
UID:61991-61209
DTSTAMP:20260423T165528Z
SUMMARY:RESCHEDULED to 2/5/2027: Vir Das: Live Nation
LOCATION:
ORGANIZER;CN=Jen Taylor:MAILTO:jen@aaobserver.com
DTSTART;TZID=America/Detroit:20260417T190000
DTEND;TZID=America/Detroit:20260417T200000
X-ALT-DESC;FMTTYPE=TEXT/HTML:RESCHEDULED TO Feb. 5\, 2027 This busy Indian 
 stand-up comedian\, who is also an actor and film director\, comes to Ann 
 Arbor on his “Hey Stranger” tour\, where he delves into such topics as
  hypermasculinity\, true crime\, being called a “terrorist\,” and more
 . He won the 2023 International Emmy Award for Best Comedy Series for&amp;hell
 ip\;
CATEGORIES:Observer Editor
URL;VALUE=URI:https://annarborobserver.com/mc-events/rescheduled-to-2-5-202
 7-vir-das-live-nation/
METHOD:PUBLISH
END:VEVENT
END:VCALENDAR