BEGIN:VCALENDAR
VERSION:2.0
PRODID:spatie/icalendar-generator
DESCRIPTION:Events from Ann Arbor Observer
X-WR-CALDESC:Events from Ann Arbor Observer
REFRESH-INTERVAL;VALUE=DURATION:PT1440M
X-PUBLISHED-TTL:PT1440M
BEGIN:VTIMEZONE
TZID:America/Detroit
BEGIN:STANDARD
DTSTART:20251102T020000Z
TZOFFSETFROM:-0400
TZOFFSETTO:-0500
END:STANDARD
BEGIN:DAYLIGHT
DTSTART:20260308T020000Z
TZOFFSETFROM:-0500
TZOFFSETTO:-0400
END:DAYLIGHT
BEGIN:STANDARD
DTSTART:20261101T020000Z
TZOFFSETFROM:-0400
TZOFFSETTO:-0500
END:STANDARD
END:VTIMEZONE
BEGIN:VTIMEZONE
TZID:UTC
BEGIN:STANDARD
DTSTART:20250729T025129Z
TZOFFSETFROM:+0000
TZOFFSETTO:+0000
END:STANDARD
END:VTIMEZONE
BEGIN:VEVENT
UID:61405-60623
DTSTAMP:20260425T025129Z
SUMMARY:Westside Art Hop
LOCATION:
ORGANIZER;CN=Jen Taylor:MAILTO:jen@aaobserver.com
DTSTART;TZID=America/Detroit:20260613T100000
DTEND;TZID=America/Detroit:20260613T170000
X-ALT-DESC;FMTTYPE=TEXT/HTML:Ann Arbor's quirkiest art fair is back for ano
 ther year! Come for a stroll through the Old West Side the second weekend 
 in June to see this year's group of artists who made it through the jury. 
 They'll be hosted by generous families throughout the neighborhood willing
  to lend their lawns\, garages\, porches\, and/or studios&amp;hellip\;
CATEGORIES:Community Listing
URL;VALUE=URI:https://annarborobserver.com/mc-events/westside-art-hop/
METHOD:PUBLISH
END:VEVENT
END:VCALENDAR