BEGIN:VCALENDAR
VERSION:2.0
PRODID:spatie/icalendar-generator
DESCRIPTION:Events from Ann Arbor Observer
X-WR-CALDESC:Events from Ann Arbor Observer
REFRESH-INTERVAL;VALUE=DURATION:PT1440M
X-PUBLISHED-TTL:PT1440M
BEGIN:VTIMEZONE
TZID:America/Detroit
BEGIN:STANDARD
DTSTART:20251102T020000Z
TZOFFSETFROM:-0400
TZOFFSETTO:-0500
END:STANDARD
BEGIN:DAYLIGHT
DTSTART:20260308T020000Z
TZOFFSETFROM:-0500
TZOFFSETTO:-0400
END:DAYLIGHT
END:VTIMEZONE
BEGIN:VTIMEZONE
TZID:UTC
BEGIN:STANDARD
DTSTART:20250724T152113Z
TZOFFSETFROM:+0000
TZOFFSETTO:+0000
END:STANDARD
END:VTIMEZONE
BEGIN:VEVENT
UID:62662-61873
DTSTAMP:20260420T152113Z
SUMMARY:Ecological Volunteer Workday
LOCATION:
ORGANIZER;CN=Jen Taylor:MAILTO:jen@aaobserver.com
DTSTART;TZID=America/Detroit:20260418T090000
DTEND;TZID=America/Detroit:20260418T120000
X-ALT-DESC;FMTTYPE=TEXT/HTML:Help us remove herbaceous invasive species\, l
 ike Dame's Rocket and Garlic Mustard\, from Five Oaks preserve! Please not
 e that we will meet along Park Rd\, near the intersection of Park Rd and S
  Stabler Rd. Parking will be avaialble along the road. We recommend dressi
 ng for the weather\, but noting there is a potential for&amp;hellip\;
CATEGORIES:Community Listing,  Free
URL;VALUE=URI:https://annarborobserver.com/mc-events/ecological-volunteer-w
 orkday/
METHOD:PUBLISH
END:VEVENT
END:VCALENDAR