BEGIN:VCALENDAR
VERSION:2.0
PRODID:spatie/icalendar-generator
DESCRIPTION:Events from Ann Arbor Observer
X-WR-CALDESC:Events from Ann Arbor Observer
REFRESH-INTERVAL;VALUE=DURATION:PT1440M
X-PUBLISHED-TTL:PT1440M
BEGIN:VTIMEZONE
TZID:America/Detroit
BEGIN:STANDARD
DTSTART:20251102T020000Z
TZOFFSETFROM:-0400
TZOFFSETTO:-0500
END:STANDARD
BEGIN:DAYLIGHT
DTSTART:20260308T020000Z
TZOFFSETFROM:-0500
TZOFFSETTO:-0400
END:DAYLIGHT
END:VTIMEZONE
BEGIN:VTIMEZONE
TZID:UTC
BEGIN:STANDARD
DTSTART:20250724T153721Z
TZOFFSETFROM:+0000
TZOFFSETTO:+0000
END:STANDARD
END:VTIMEZONE
BEGIN:VEVENT
UID:62626-61838
DTSTAMP:20260420T153721Z
SUMMARY:“Birthright Citizenship—Promise or Betrayal of the American Dre
 am?”:  Braver Angels of Washtenaw County
LOCATION:
ORGANIZER;CN=Jen Taylor:MAILTO:jen@aaobserver.com
DTSTART;TZID=America/Detroit:20260420T180000
DTEND;TZID=America/Detroit:20260420T200000
X-ALT-DESC;FMTTYPE=TEXT/HTML:All invited to join a civil discussion of birt
 hright citizenship hosted. by this nonpartisan network of local citizens f
 ocused on bridging America’s political divide. 6–8 p.m.\, Dan’s Down
 town Tavern\, 103 E. Michigan Avenue\, Saline. Free\, no registration requ
 ired. washtenaw.braverangels.org.
CATEGORIES:Community Listing,  Free
URL;VALUE=URI:https://annarborobserver.com/mc-events/birthright-citizenship
 -promise-or-betrayal-of-the-american-dream-braver-angels-of-washtenaw-coun
 ty/
METHOD:PUBLISH
END:VEVENT
END:VCALENDAR