BEGIN:VCALENDAR
VERSION:2.0
PRODID:spatie/icalendar-generator
DESCRIPTION:Events from Ann Arbor Observer
X-WR-CALDESC:Events from Ann Arbor Observer
REFRESH-INTERVAL;VALUE=DURATION:PT1440M
X-PUBLISHED-TTL:PT1440M
BEGIN:VTIMEZONE
TZID:America/Detroit
BEGIN:STANDARD
DTSTART:20251102T020000Z
TZOFFSETFROM:-0400
TZOFFSETTO:-0500
END:STANDARD
BEGIN:DAYLIGHT
DTSTART:20260308T020000Z
TZOFFSETFROM:-0500
TZOFFSETTO:-0400
END:DAYLIGHT
END:VTIMEZONE
BEGIN:VTIMEZONE
TZID:UTC
BEGIN:STANDARD
DTSTART:20250724T135336Z
TZOFFSETFROM:+0000
TZOFFSETTO:+0000
END:STANDARD
END:VTIMEZONE
BEGIN:VEVENT
UID:62385-61603
DTSTAMP:20260420T135336Z
SUMMARY:Annual Record Store Day: Ann Arbor District Library
LOCATION:
ORGANIZER;CN=Emily Landau:MAILTO:emily@aaobserver.com
DTSTART;TZID=America/Detroit:20260418T110000
DTEND;TZID=America/Detroit:20260418T170000
X-ALT-DESC;FMTTYPE=TEXT/HTML:Sale of used records and music-related gear fr
 om over a dozen vendors. With music by local DJs. 11 a.m.–5 p.m.\, AADL 
 Downtown. Free. (734) 327–4200.
CATEGORIES:Observer Editor,  Free
URL;VALUE=URI:https://annarborobserver.com/mc-events/annual-record-store-da
 y-ann-arbor-district-library/
METHOD:PUBLISH
END:VEVENT
END:VCALENDAR