BEGIN:VCALENDAR
VERSION:2.0
PRODID:spatie/icalendar-generator
DESCRIPTION:Events from Ann Arbor Observer
X-WR-CALDESC:Events from Ann Arbor Observer
REFRESH-INTERVAL;VALUE=DURATION:PT1440M
X-PUBLISHED-TTL:PT1440M
BEGIN:VTIMEZONE
TZID:America/Detroit
BEGIN:STANDARD
DTSTART:20251102T020000Z
TZOFFSETFROM:-0400
TZOFFSETTO:-0500
END:STANDARD
BEGIN:DAYLIGHT
DTSTART:20260308T020000Z
TZOFFSETFROM:-0500
TZOFFSETTO:-0400
END:DAYLIGHT
END:VTIMEZONE
BEGIN:VTIMEZONE
TZID:UTC
BEGIN:STANDARD
DTSTART:20250724T135413Z
TZOFFSETFROM:+0000
TZOFFSETTO:+0000
END:STANDARD
END:VTIMEZONE
BEGIN:VEVENT
UID:62380-61598
DTSTAMP:20260420T135413Z
SUMMARY:Campus Orchestra String Ensemble: U-M Music School
LOCATION:
ORGANIZER;CN=Emily Landau:MAILTO:emily@aaobserver.com
DTSTART;TZID=America/Detroit:20260418T190000
DTEND;TZID=America/Detroit:20260418T200000
X-ALT-DESC;FMTTYPE=TEXT/HTML:This ensemble of U-M faculty\, staff\, alumni\
 , and nonmusic majors performs a program of chamber works by Sibelius\, He
 nryk Górecki\, Alexander Scriabin\, Bach\, and others. 7 p.m.\, U-M Moore
  Bldg.\, Hankinson Rehearsal Hall\, 1100 Baits. Free. (734) 615–3204.
CATEGORIES:Observer Editor,  Free
URL;VALUE=URI:https://annarborobserver.com/mc-events/campus-orchestra-strin
 g-ensemble-u-m-music-school/
METHOD:PUBLISH
END:VEVENT
END:VCALENDAR