BEGIN:VCALENDAR
VERSION:2.0
PRODID:spatie/icalendar-generator
DESCRIPTION:Events from Ann Arbor Observer
X-WR-CALDESC:Events from Ann Arbor Observer
REFRESH-INTERVAL;VALUE=DURATION:PT1440M
X-PUBLISHED-TTL:PT1440M
BEGIN:VTIMEZONE
TZID:America/Detroit
BEGIN:STANDARD
DTSTART:20251102T020000Z
TZOFFSETFROM:-0400
TZOFFSETTO:-0500
END:STANDARD
BEGIN:DAYLIGHT
DTSTART:20260308T020000Z
TZOFFSETFROM:-0500
TZOFFSETTO:-0400
END:DAYLIGHT
END:VTIMEZONE
BEGIN:VTIMEZONE
TZID:UTC
BEGIN:STANDARD
DTSTART:20250728T084427Z
TZOFFSETFROM:+0000
TZOFFSETTO:+0000
END:STANDARD
END:VTIMEZONE
BEGIN:VEVENT
UID:61364-60585
DTSTAMP:20260424T084427Z
SUMMARY:HOMES 9th Anniversary Party
LOCATION:
ORGANIZER;CN=Jen Taylor:MAILTO:jen@aaobserver.com
DTSTART;TZID=America/Detroit:20260418T120000
DTEND;TZID=America/Detroit:20260418T220000
X-ALT-DESC;FMTTYPE=TEXT/HTML:HOMES IS TURNING 9! Join us 12 - 10pm Saturday
 \, April 18th at Campus for a day long celebration of all things HOMES! 
 •Bars open at 12:00pm •Timed vintage pours throughout the day - stay t
 uned for the beer list and tap times! •Anniversary beer release at 4:00p
 m: Doozie Coconut 2026 Barleywine (name is TBD&amp;hellip\;
CATEGORIES:Community Listing
URL;VALUE=URI:https://annarborobserver.com/mc-events/homes-9th-anniversary-
 party/
METHOD:PUBLISH
END:VEVENT
END:VCALENDAR